BEGIN:VCALENDAR
VERSION:2.0
PRODID:-//wp-events-plugin.com//7.2.3.1//EN
BEGIN:VEVENT
UID:61@haibischl.de
DTSTART:20180415T140000Z
DTEND:20180415T160000Z
DTSTAMP:20180314T084652Z
URL:https://haibischl.de/events/14-multikulturelles-treffen-mkt/
SUMMARY:14. Multikulturelles Treffen - MKT
DESCRIPTION:[caption id="attachment_5722" align="aligncenter" width="492"] 
 Einladung[/caption]
END:VEVENT
END:VCALENDAR