BEGIN:VCALENDAR
VERSION:2.0
PRODID:-//wp-events-plugin.com//7.2.3.1//EN
BEGIN:VEVENT
UID:77@haibischl.de
DTSTART:20190324T140000Z
DTEND:20190324T160000Z
DTSTAMP:20190305T144700Z
URL:https://haibischl.de/events/17-multikulturelles-treffen-mkt-klassik-me
 ets-pop/
SUMMARY:17. Multikulturelles Treffen - MKT --- Klassik meets Pop
DESCRIPTION:
END:VEVENT
END:VCALENDAR