BEGIN:VCALENDAR
VERSION:2.0
PRODID:-//wp-events-plugin.com//7.2.3.1//EN
BEGIN:VEVENT
UID:110@haibischl.de
DTSTART;VALUE=DATE:20220722
DTEND;VALUE=DATE:20220724
DTSTAMP:20220716T080417Z
URL:https://haibischl.de/events/3kings3hills-1-internationales-trail-musik
 -festival-2022/
SUMMARY:3Kings3Hills - 1. Internationales Trail- & Musik-Festival 2022
DESCRIPTION:Dreisesselstr. 12\nD-94145 Haidmühle\n\nFreitag\, 22. Juli 202
 2\n\n 	18:00 – 20:00 Uhr Startnummernausgabe\n 	18:00 Uhr Camping- und S
 tellplatz\n\nSamstag\, 23. Juli\n\n 	07:00 Uhr Startnummernausgabe\n 	08:3
 0 Uhr Briefing &amp\; Startaufstellung 3K3H Ultra Trail\n 	09:00 Uhr Start
 schuss 3K3H Ultra Trail\n 	10:45 Uhr Briefing &amp\; Startaufstellung 3K3H
  Base Trail\n 	11:15 Uhr Startschuss 3K3H Base Trail\n 	10:45 Uhr Briefing
  &amp\; Startaufstellung 3K3H Shorty Trail\n 	12:00 Uhr Startschuss 3K3H S
 horty Trail\n 	13:00 Uhr Zieleinlauf aller Disziplinen\n 	15:00 Uhr Sieger
 ehrung\n\nFESTIVAL\n\n 	16:30 Uhr THE STRINGERS\n 	18:00 Uhr HIMMELSTÜRME
 R\n 	19:30 Uhr SEARCHING FOR A REPLY\n 	21:00 Uhr FICHTENKARTELL\n 	ab 23:
 00 Uhr DJ VAN ART\n\n&nbsp\;\n\nalles weitere auf: https://www.3kings-3hil
 ls.com/\n\n&nbsp\;
END:VEVENT
END:VCALENDAR