BEGIN:VCALENDAR
VERSION:2.0
PRODID:-//wp-events-plugin.com//7.2.3.1//EN
BEGIN:VEVENT
UID:56@haibischl.de
DTSTART:20171021T180000Z
DTEND:20171021T180000Z
DTSTAMP:20171011T150831Z
URL:https://haibischl.de/events/5403/
SUMMARY:Kunst am 22. - diesmal bereit am 21.
DESCRIPTION:Sehr verehrte Damen und Herren\n\nein Empfang für Tänzerinnen
  aus Indien im Haus an der Grenze\n\nam 21. Oktober um 18 Uhr\n\nwenn Sie 
 dabei sein und eventuell mithelfen wollen zum italienischen Vorspeisenbuff
 et und/oder Getränken\n\nso rufen Sie mich an\n\nToni Kirchmair\nBildende
 r Künstler\nMarchhäuser 6\nD 94145 Haidmühle\n\nTel.: 08550 440\nwww.an
 tonkirchmair.de\ngraphik@antonkirchmair.de\n\n&nbsp\;
ATTACH;FMTTYPE=image/jpeg:https://i0.wp.com/haibischl.de/wp-content/upload
 s/2017/10/grazil_WEB_521x800px.jpg?fit=521%2C800&ssl=1
END:VEVENT
END:VCALENDAR