BEGIN:VCALENDAR
VERSION:2.0
PRODID:-//wp-events-plugin.com//7.2.3.1//EN
BEGIN:VEVENT
UID:112@haibischl.de
DTSTART:20221012T190000Z
DTEND:20221012T203000Z
DTSTAMP:20220909T133717Z
URL:https://haibischl.de/events/enkeltauglich-leben-das-spiel/
SUMMARY:Enkeltauglich Leben – Das Spiel
DESCRIPTION:Viele Menschen spüren\, dass sich an unserer Lebensweise etwas
  ändern muss damit sie wieder „enkeltauglich“ wird\, also auch für z
 ukünftige Generationen ein lebenswertes Leben ermöglicht. Nur wie geht d
 as? Das Spiel „Enkeltauglich Leben“ führt auf spielerische Art und do
 ch ganz konkret auf den Weg. An diesem Abend werden Hintergrund und Grundz
 üge des Spiels verdeutlicht.\n\n\n\nKursnummer\n222115W16\n\n\nDozent \nF
 ranz Kies \n\n\nDatum\nMittwoch\, 12.10.2022 19:00–20:30 Uhr\n\n\nGebüh
 r\nkostenlos\n\n\nOrt\nvhs-Seminarraum E 01\, Erlenhain 2\, 94065 Waldkirc
 hen\nErlenhain 2\n94065 Waldkirchen\n\n\n\nhttps://www.vhs-freyung-grafena
 u.de
ATTACH;FMTTYPE=image/jpeg:https://i0.wp.com/haibischl.de/wp-content/upload
 s/2022/09/03_Logo_EL.png?fit=1080%2C756&ssl=1
END:VEVENT
END:VCALENDAR