BEGIN:VCALENDAR
VERSION:2.0
PRODID:-//wp-events-plugin.com//7.2.3.1//EN
BEGIN:VEVENT
UID:111@haibischl.de
DTSTART:20220916T190000Z
DTEND:20220916T203000Z
DTSTAMP:20220909T133626Z
URL:https://haibischl.de/events/informationsveranstaltung-zum-spiel-enkelt
 auglich-leben/
SUMMARY:Informationsveranstaltung zum Spiel „Enkeltauglich Leben“
DESCRIPTION:Sie wollen Ihr Leben nachhaltiger gestalten? In einer Kleingrup
 pe spornen Sie sich ein halbes Jahr lang gegenseitig zu Veränderungen an\
 , um einen nachhaltigeren Lebensstil umzusetzen. Von Treffen zu Treffen we
 tten Sie\, was Sie bis zum nächsten Mal in Ihrer Welt verändern.\n\nAbla
 uf:\nInsgeamt sechs Treffen\, einmal im Monat\, jeweils 2\,5 Stunden\nFün
 f bis zehn Mitstreiter\nGruppenaktionen\nEin/e zertifizierte/r Spielleiter
 /in (Franz Kies)\n\nDie einzelnen Termine werden in Absprache mit den Teil
 nehmer/innen bei diesem Informationstreffen festgelegt.\n\nEgal ob es ein 
 kleines Vorhaben ist\, wie etwa zu einer ethisch orientierten Bank zu wech
 seln\, oder ein großes und Sie steigen für einen Monat auf vegane Ernäh
 rung um – jede Wette ist Willkommen.\n\nZugleich erfahren Sie\, wie es I
 hren Kurspartner/innen ergeht\, Sie bekommen von ihnen viele Anregungen\, 
 was alles möglich ist\, und Tipps wie es ganz praktisch geht. Gemeinsam m
 acht es einfach Spaß und am Ende gewinnen alle.\n\nWenn Sie anschließend
  Lust haben und selbst gerne Spieleleiter werden möchten\, dann sprechen 
 Sie bitte Ihren/Spielleiter/in an.\n\nWeitere Infos finden Sie gerne auch 
 unter der offiziellen Homepage: www.enkeltauglich-leben.org\nReferent/in\n
 Franz Kies\nKosten\nDer Infoabend am 16.September ist kostenfrei. Insgesam
 t findet der Kurs an 6 Abenden statt\, pro Abend erheben wir eine Kursgeb
 ühr in Höhe von 20\,00 Euro.\nAnmeldung\n08551/4581 oder info@keb-freyun
 g.de\n\nwww.keb-freyung.de
ATTACH;FMTTYPE=image/jpeg:https://i0.wp.com/haibischl.de/wp-content/upload
 s/2022/09/GWOE_facebook_1640x6240_2018_04.png?fit=1640%2C624&ssl=1
END:VEVENT
END:VCALENDAR