BEGIN:VCALENDAR
VERSION:2.0
PRODID:-//wp-events-plugin.com//7.2.3.1//EN
BEGIN:VEVENT
UID:113@haibischl.de
DTSTART:20221010T183000Z
DTEND:20221010T200000Z
DTSTAMP:20220909T133534Z
URL:https://haibischl.de/events/klimafreundlich-leben-das-spiel/
SUMMARY:Klimafreundlich leben - das Spiel
DESCRIPTION:Alle Welt redet vom Klimawandel und was die Politik tun sollte.
  Aber was können wir ganz persönlich tun? Wie können wir einen positive
 n und spürbaren Beitrag leisten?\nDas Spiel "Klimafreundlich Leben" führ
 t auf spielerische Art und doch ganz konkret auf den Weg. An diesem Abend 
 erfahren Sie Hintergrund und Grundzüge des Spiels.\nDer Kurs findet onlin
 e statt\, falls der Kurs nicht in Präsenz angeboten werden kann.\nMontag\
 , 10. Oktober 2022 18:30–20:00 Uhr\n\n\n\nKursnummer\n222115S15\n\n\nDoz
 ent \nFranz Kies \n\n\nDatum\nMontag\, 10.10.2022 18:30–20:00 Uhr\n\n\nG
 ebühr\nkostenlos\n\n\nOrt\nKuK\, Jahnstr. 13\, 94513 Schönberg\nJahnstr.
  13\n94513 Schönberg\n\n\n\nhttps://www.vhs-freyung-grafenau.de
ATTACH;FMTTYPE=image/jpeg:https://i0.wp.com/haibischl.de/wp-content/upload
 s/2022/09/03_Logo_EL.png?fit=1080%2C756&ssl=1
END:VEVENT
END:VCALENDAR