BEGIN:VCALENDAR
VERSION:2.0
PRODID:-//wp-events-plugin.com//7.2.3.1//EN
BEGIN:VEVENT
UID:115@haibischl.de
DTSTART:20220923T100000Z
DTEND:20220923T180000Z
DTSTAMP:20220910T082807Z
URL:https://haibischl.de/events/klimastreik/
SUMMARY:Klimastreik
DESCRIPTION:Klimastreik in Deutschland
END:VEVENT
END:VCALENDAR