BEGIN:VCALENDAR
VERSION:2.0
PRODID:-//wp-events-plugin.com//7.2.3.1//EN
BEGIN:VEVENT
UID:62@haibischl.de
DTSTART:20180701T130000Z
DTEND:20180701T160000Z
DTSTAMP:20180626T080941Z
URL:https://haibischl.de/events/tag-des-offenen-stromspeichers/
SUMMARY:Tag des offenen Stromspeichers in Haidmühle und Altreichenau
DESCRIPTION:Die Deutsche Gesellschaft für Sonnenenergie e.V. Sektion Niede
 rbayern veranstaltet zum 3. mal den Tag des offenen Stromspeichers.\n\nAn 
 diesem Tag öffnen Besitzer von Solarstromspeichern ihre Tür für interes
 sierte Besucher um ihnen das System zu erklären und Fragen zu beantworten
 . Es geht nach dem Motto:\nWir wollen die Energiewende nicht\, weil das un
 ser Hobby ist.\nWir BRAUCHEN die Energiewende! \nWeil wir unseren Kindern 
 und Enkel eine Welt hinterlassen möchten\,\nin der sie sicher und gesund 
 aufwachsen und leben können.\n\nOhne Wasserknappheit.\nOhne Überschwemmu
 ngen\, Dürren und unberechenbaren Wetterkapriolen.\n\nMit sauberer Luft u
 nd\nMit einer gesunden Natur und Umwelt.\n\nDas ist unser Ziel!\n---\nUnd 
 wenn nebenbei auch noch Geld gespart werden kann und ich unabhängiger von
  den Stromversorgern werde\, ist das ja auch eine schöne Sache!!\n\nHier 
 bei uns wird eingeladen von:\n\nKies\, Franz\nLudwigsreut 9\n94145 Haidmü
 hle\nE3/DC S10\nSeit Juni 2017\nSpeicherkapazität: 9\,2 kWh\nPV-Anlage mi
 t 29\,975 kWp\n\nMaihorn\, Rainer\nReichenauer Straße 9\,\n94089 Neureich
 enau\nE3/DC\nSeit: Juni 2016\nSpeicherkapazität: 13\,8 kWh\nPV-Anlage mit
  9\,5 kWp\n\n&nbsp\;
END:VEVENT
END:VCALENDAR