BEGIN:VCALENDAR
VERSION:2.0
PRODID:-//wp-events-plugin.com//7.2.3.1//EN
BEGIN:VEVENT
UID:58@haibischl.de
DTSTART:20171127T190000Z
DTEND:20171127T203000Z
DTSTAMP:20171113T085535Z
URL:https://haibischl.de/events/vhs-vortrag-unterwegs-in-westafrika/
SUMMARY:VHS-Vortrag: Unterwegs in Westafrika
DESCRIPTION:\n\n\n\n\n\n\n\n\n\n\nKursnummer\n172110B02\n\n\nDozent\nFranz 
 Kies \n\n\n\n\n\n\nGebühr\nkostenlos\n\n\nOrt\n Mehrzweckhalle\, Schulstr
 . 39\, 94145 Haidmühle\nSchulstr. 39\n94145 Haidmühle\n\n\n\n\n&nbsp\;\n
 \n\n\nEine Fotoreportage basierend auf einem Forschungsauftrag der Weltban
 k mit Schwerpunkt Ghana und Togo. Der Vortragende war beauftragt eine Stud
 ie über die Auswirkungen von mobilen Solarleuchten in Westafrika durchzuf
 ühren. Dies war eine ideale Gelegenheit\, Land und Leute intensiver kenne
 n zu lernen.\n\nmehr unter: vhs-freyung-grafenau\n\n&nbsp\;\n\n\n\n\n\n\n\
 n\n\n
END:VEVENT
END:VCALENDAR