BEGIN:VCALENDAR
VERSION:2.0
PRODID:-//wp-events-plugin.com//7.2.3.1//EN
BEGIN:VEVENT
UID:23@haibischl.de
DTSTART:20160812T000000Z
DTEND:20160815T000000Z
DTSTAMP:20160812T211504Z
URL:https://haibischl.de/events/volksfest-bischofsreut/
SUMMARY:Volksfest Bischofsreut
DESCRIPTION:Hier noch das grobe Programm:\n\nSa\, 13.08. ab 18:00 Zeltbetri
 eb\, Band HEARDBEAT\n\nSo\, 14.08. ab 9:30 Nordic Walking für alle\, vers
 ch. Strecken\, gebührenfrei. 14:00 Familiennachmittag\, abends FUNHOUSE M
 USIC FACTORY\n\nMo\, 15.08. 10:00 Festgottesdienst bei der St. Wolfgang-Ka
 pelle\, anschl. Frühschoppen\, Mittagessen\n\nab 19:30 die unvermeidliche
 n SCHMALZLER\, mit neuem Programm wie immer.. Deswegen ist genau DAS DER 
 TAG des Bischofsreuter Volksfests\, auch wegen:\n\n..der traditionellen\,
  spannenden\, lustigen und ärgerlichen Schweineverlosung ab 22:00! Letzte
 s Jahr hat eine Vegetarierin gewonnen - sappralott a Gaudi wars\, und das 
 wird's auch diesmal wieder! Die Lose gibt es zu jedem Getränk\, schon den
  ganzen Tag über.
END:VEVENT
END:VCALENDAR