BEGIN:VCALENDAR
VERSION:2.0
PRODID:-//wp-events-plugin.com//7.2.3.1//EN
BEGIN:VEVENT
UID:59@haibischl.de
DTSTART:20180308T190000Z
DTEND:20180308T190000Z
DTSTAMP:20180218T201756Z
URL:https://haibischl.de/events/vortrag-kreuzotter/
SUMMARY:Vortrag Kreuzotter
DESCRIPTION:Aussetzaktion Kreuzotter\, bei Bedarf einfach melden:\n\n 	Bisc
 hofsreut / Haidmühle bevorzugt\n 	Abgabe der Jungtiere nur im Dutzend\n 	
 Auslieferung ab Mai durch Paketdienst\n 	Kein Weiterverkauf zulässig!\n\n
 Was es damit auf sich hat\, erfahren Sie am Donnerstag\, den 08. März im 
 Veranstaltungsraum des Haidhäusl in Haidmühle.\n\nWir freuen uns auf Ihr
  Kommen!\n\n&nbsp\;
END:VEVENT
END:VCALENDAR