BEGIN:VCALENDAR
VERSION:2.0
PRODID:-//wp-events-plugin.com//7.2.3.1//EN
BEGIN:VEVENT
UID:144@haibischl.de
DTSTART:20251003T100000Z
DTEND:20251003T160000Z
DTSTAMP:20250929T061403Z
URL:https://haibischl.de/events/wanderung-durch-die-kulturlandschaften-in-
 mauth-finsterau/
SUMMARY:Wanderung durch die Kulturlandschaften in Mauth-Finsterau
DESCRIPTION:Am Nachmittag des 03.10.2025 – am Jahrestag der Deutschen Ein
 heit – findet die Abschlussveranstaltung des 6-Jahres-Projekts „Querve
 rnetzung Grünes Band“ (Bundesprogramm Biologische Vielfalt\, Bayerische
 r Naturschutzfonds) statt. Diese wird mit einer Wanderung ausgehend vom Ma
 uthler Filz in Mauth bis ans Fürstenhuter Denkmal eingeleitet.\n Um 10 Uh
 r startet die Wanderung am Mauthler Filz (Jugendherbergstraße\, Mauth) mi
 t einer kurzen Ausführung zu den Renaturierungsmaßnahmen und den zuletzt
  installierten Bildtafeln und Erlebnisbereichen. Auf der ca. 9 km langen S
 trecke durch das Sauß- und Rothbachtal bis ans Fürstenhuter Denkmal werd
 en fünf weitere Projektflächen des Projekts mit jeweils kurzem Verweilen
  und Informationen zu den Maßnahmen besichtigt. Ziel ist die Projektfläc
 he „Lichtwald“ am Fürstenhuter Denkmal\, an der nicht nur die offizie
 lle Abschlussveranstaltung des Teilprojekts im Vernetzungsgebiet „Innere
 r Bayerischer Wald“ stattfindet\, sondern auch die von Lukas Haselberger
  designte Infostele zu Kultur\, Natur und Geschichte im Grenzgebiet eingew
 eiht wird.\nWir empfehlen wetterfeste Kleidung und festes Schuhwerk mitzub
 ringen! Weitere Informationen finden sich auf der Homepage der BN-Kreisgru
 ppe Freyung-Grafenau. Um Anmeldung wird gebeten\, damit im Schlechtwetterf
 all Änderungen kurzfristig bekannt geben und damit Rückfahrt zum Mauthle
 r Filz sowie Verpflegung besser geplant werden können.\n\nFür Rückfrage
 n und Anmeldung:\n\nTobias Windmaißer\, Nationales BUND Kompetenzzentrum 
 Grünes Band – Außenstelle Perlesreut\, Projektmanager „Innerer Bayer
 ischer Wald“\nMobil 0171-8269739\; tobias.windmaisser@bund-naturschutz.d
 e
END:VEVENT
END:VCALENDAR