BEGIN:VCALENDAR
VERSION:2.0
PRODID:-//wp-events-plugin.com//7.2.3.1//EN
BEGIN:VEVENT
UID:114@haibischl.de
DTSTART:20230128T093000Z
DTEND:20230128T163000Z
DTSTAMP:20221022T090236Z
URL:https://haibischl.de/events/zum-wohl-von-mensch-und-umwelt/
SUMMARY:Zum Wohl von Mensch und Umwelt
DESCRIPTION:Klima- und Enkeltauglich wirtschaften mit der Gemeinwohlökonom
 ie\n\nDatum: Sa 28.01.2023\,  9.30 - 16.30 Uhr\n\nOrt: 94557 Niederalteic
 h\, Landvolkshochschule Niederalteich\, Hengersberger Str. 10\n\nMitverans
 talter: Landvolkshochschule Niederalteich\, Stabsstelle Umwelt\, Diözesan
 rat der Katholiken\, Regionalgruppe Gemeinwohlökonomie Unterer Bayerische
 r Wald\n\nWie können wir so leben\, dass auch nachfolgende Generationen n
 och zu leben haben? Diese Frage wird immer drängender gestellt. Ein klein
 es Virus hat uns gezeigt\, wie anfällig unser Leben\, unser Wirtschaftsge
 baren und unser auf Konsum aufgebautes Dasein doch ist und wie dringend no
 twendig es ist\, unsere Lebensstile grundlegend zu ändern.\nEs gilt jetzt
 \, ebenso wie beim Coronavirus\, dass andere relevante Kurven abgeflacht w
 erden: Flächenverbrauch\, Energie- und Ressourcenverbrauch\, Emission von
  Treibhausgasen\, Gefährdung und Ausrottung von Arten\, sowie die der Ung
 leichheit und der Instabilität auf den internationalen Finanzmärkten und
  im Welthandel.\nDie Gemeinwohlökonomie zielt genau in diese Richtung und
  ist ganz auf Linie mit Papst Franziskus\, der in der Enzyklika „Querida
  Amazonia“ schreibt\, dass die Kirche „sozial-ökologische Fragen kün
 ftig nicht als eine Wahlmöglichkeit\, sondern als einen Kernbestand des G
 laubens berücksichtigen muss“.\nIn der Gesellschaft und in Unternehmen 
 ist eine neue Ethik der Bescheidenheit und Genügsamkeit angebracht\, der 
 Achtung des Lebens in all seinen Formen\, und der Orientierung am Gemeinwo
 hl einschließlich internationaler und intergenerationeller Gerechtigkeit.
 \nAm Aktionstag stellen wir verschiedene Zugänge vor\, beschreiben Wege z
 u einer ethischen Marktwirtschaft und zeigen Entwicklungsmöglichkeiten an
  konkreten Beispielen auf.\nReferent/in\nDagmar Schmidbauer\, Referenten\n
 \nJosef Holzbauer\n\nFranz Kies\nKosten\n50 Euro (incl. Mittagessen und Ka
 ffee/Kuchen)\nAnmeldung\nLVHS Niederalteich\, Tel. 09901 93520\, info@lvhs
 -niederalteich.de
ATTACH;FMTTYPE=image/jpeg:https://i0.wp.com/haibischl.de/wp-content/upload
 s/2022/09/GWOE_facebook_1640x6240_2018_04.png?fit=1640%2C624&ssl=1
END:VEVENT
END:VCALENDAR